<?xml version="1.0"?>
<Capabilities xmlns="http://www.opengis.net/wmts/1.0" xmlns:ows="http://www.opengis.net/ows/1.1" xmlns:xlink="http://www.w3.org/1999/xlink" xmlns:xsi="http://www.w3.org/2001/XMLSchema-instance" xmlns:gml="http://www.opengis.net/gml" xsi:schemaLocation="http://www.opengis.net/wmts/1.0 http://schemas.opengis.net/wmts/1.0/wmtsGetCapabilities_response.xsd" version="1.0.0">
  <ows:ServiceIdentification>
    <ows:Title>Astorni MapProxy Cache</ows:Title>
    <ows:Abstract></ows:Abstract>
    <ows:ServiceType>OGC WMTS</ows:ServiceType>
    <ows:ServiceTypeVersion>1.0.0</ows:ServiceTypeVersion>
    <ows:Fees>none</ows:Fees>
    <ows:AccessConstraints>none</ows:AccessConstraints>
  </ows:ServiceIdentification>
  <ows:OperationsMetadata>
    <ows:Operation name="GetCapabilities">
      <ows:DCP>
        <ows:HTTP>
          <ows:Get xlink:href="https://mapbox2.astorni.cloud/wmts?">
            <ows:Constraint name="GetEncoding">
              <ows:AllowedValues>
                <ows:Value>RESTful</ows:Value>
              </ows:AllowedValues>
            </ows:Constraint>
          </ows:Get>
        </ows:HTTP>
      </ows:DCP>
    </ows:Operation>
    <ows:Operation name="GetTile">
      <ows:DCP>
        <ows:HTTP>
          <ows:Get xlink:href="https://mapbox2.astorni.cloud/wmts?">
            <ows:Constraint name="GetEncoding">
              <ows:AllowedValues>
                <ows:Value>RESTful</ows:Value>
              </ows:AllowedValues>
            </ows:Constraint>
          </ows:Get>
        </ows:HTTP>
      </ows:DCP>
    </ows:Operation>
    <ows:Operation name="GetFeatureInfo">
      <ows:DCP>
        <ows:HTTP>
          <ows:Get xlink:href="https://mapbox2.astorni.cloud/wmts?">
            <ows:Constraint name="GetEncoding">
              <ows:AllowedValues>
                <ows:Value>RESTful</ows:Value>
              </ows:AllowedValues>
            </ows:Constraint>
          </ows:Get>
        </ows:HTTP>
      </ows:DCP>
    </ows:Operation>
  </ows:OperationsMetadata>
  <Contents>
    <Layer>
      <ows:Title>OSM – Standard</ows:Title>
      <ows:Abstract></ows:Abstract>
      <ows:WGS84BoundingBox>
        <ows:LowerCorner>-180.0 -85.0511287798066</ows:LowerCorner>
        <ows:UpperCorner>180.0 85.0511287798066</ows:UpperCorner>
      </ows:WGS84BoundingBox>
      <ows:Identifier>osm_standard</ows:Identifier>
      <Style isDefault="true">
        <ows:Identifier>default</ows:Identifier>
      </Style>
      <Format>image/png</Format>
      <TileMatrixSetLink>
        <TileMatrixSet>webmercator</TileMatrixSet>
      </TileMatrixSetLink>
      <ResourceURL format="image/png" resourceType="tile"
        template="https://mapbox2.astorni.cloud/wmts/osm_standard/{TileMatrixSet}/{TileMatrix}/{TileCol}/{TileRow}.png"/>
    </Layer>
    <Layer>
      <ows:Title>OSM – CyclOSM</ows:Title>
      <ows:Abstract></ows:Abstract>
      <ows:WGS84BoundingBox>
        <ows:LowerCorner>-180.0 -85.0511287798066</ows:LowerCorner>
        <ows:UpperCorner>180.0 85.0511287798066</ows:UpperCorner>
      </ows:WGS84BoundingBox>
      <ows:Identifier>osm_cycle</ows:Identifier>
      <Style isDefault="true">
        <ows:Identifier>default</ows:Identifier>
      </Style>
      <Format>image/png</Format>
      <TileMatrixSetLink>
        <TileMatrixSet>webmercator</TileMatrixSet>
      </TileMatrixSetLink>
      <ResourceURL format="image/png" resourceType="tile"
        template="https://mapbox2.astorni.cloud/wmts/osm_cycle/{TileMatrixSet}/{TileMatrix}/{TileCol}/{TileRow}.png"/>
    </Layer>
    <Layer>
      <ows:Title>OSM – Humanitarian</ows:Title>
      <ows:Abstract></ows:Abstract>
      <ows:WGS84BoundingBox>
        <ows:LowerCorner>-180.0 -85.0511287798066</ows:LowerCorner>
        <ows:UpperCorner>180.0 85.0511287798066</ows:UpperCorner>
      </ows:WGS84BoundingBox>
      <ows:Identifier>osm_humanitarian</ows:Identifier>
      <Style isDefault="true">
        <ows:Identifier>default</ows:Identifier>
      </Style>
      <Format>image/png</Format>
      <TileMatrixSetLink>
        <TileMatrixSet>webmercator</TileMatrixSet>
      </TileMatrixSetLink>
      <ResourceURL format="image/png" resourceType="tile"
        template="https://mapbox2.astorni.cloud/wmts/osm_humanitarian/{TileMatrixSet}/{TileMatrix}/{TileCol}/{TileRow}.png"/>
    </Layer>
    <Layer>
      <ows:Title>Google – Roads</ows:Title>
      <ows:Abstract></ows:Abstract>
      <ows:WGS84BoundingBox>
        <ows:LowerCorner>-180.0 -85.0511287798066</ows:LowerCorner>
        <ows:UpperCorner>180.0 85.0511287798066</ows:UpperCorner>
      </ows:WGS84BoundingBox>
      <ows:Identifier>google_roads</ows:Identifier>
      <Style isDefault="true">
        <ows:Identifier>default</ows:Identifier>
      </Style>
      <Format>image/jpeg</Format>
      <TileMatrixSetLink>
        <TileMatrixSet>webmercator</TileMatrixSet>
      </TileMatrixSetLink>
      <ResourceURL format="image/jpeg" resourceType="tile"
        template="https://mapbox2.astorni.cloud/wmts/google_roads/{TileMatrixSet}/{TileMatrix}/{TileCol}/{TileRow}.jpeg"/>
    </Layer>
    <Layer>
      <ows:Title>Google – Satellite</ows:Title>
      <ows:Abstract></ows:Abstract>
      <ows:WGS84BoundingBox>
        <ows:LowerCorner>-180.0 -85.0511287798066</ows:LowerCorner>
        <ows:UpperCorner>180.0 85.0511287798066</ows:UpperCorner>
      </ows:WGS84BoundingBox>
      <ows:Identifier>google_satellite</ows:Identifier>
      <Style isDefault="true">
        <ows:Identifier>default</ows:Identifier>
      </Style>
      <Format>image/jpeg</Format>
      <TileMatrixSetLink>
        <TileMatrixSet>webmercator</TileMatrixSet>
      </TileMatrixSetLink>
      <ResourceURL format="image/jpeg" resourceType="tile"
        template="https://mapbox2.astorni.cloud/wmts/google_satellite/{TileMatrixSet}/{TileMatrix}/{TileCol}/{TileRow}.jpeg"/>
    </Layer>
    <Layer>
      <ows:Title>Google – Hybrid</ows:Title>
      <ows:Abstract></ows:Abstract>
      <ows:WGS84BoundingBox>
        <ows:LowerCorner>-180.0 -85.0511287798066</ows:LowerCorner>
        <ows:UpperCorner>180.0 85.0511287798066</ows:UpperCorner>
      </ows:WGS84BoundingBox>
      <ows:Identifier>google_hybrid</ows:Identifier>
      <Style isDefault="true">
        <ows:Identifier>default</ows:Identifier>
      </Style>
      <Format>image/jpeg</Format>
      <TileMatrixSetLink>
        <TileMatrixSet>webmercator</TileMatrixSet>
      </TileMatrixSetLink>
      <ResourceURL format="image/jpeg" resourceType="tile"
        template="https://mapbox2.astorni.cloud/wmts/google_hybrid/{TileMatrixSet}/{TileMatrix}/{TileCol}/{TileRow}.jpeg"/>
    </Layer>
    <Layer>
      <ows:Title>Google – Terrain</ows:Title>
      <ows:Abstract></ows:Abstract>
      <ows:WGS84BoundingBox>
        <ows:LowerCorner>-180.0 -85.0511287798066</ows:LowerCorner>
        <ows:UpperCorner>180.0 85.0511287798066</ows:UpperCorner>
      </ows:WGS84BoundingBox>
      <ows:Identifier>google_terrain</ows:Identifier>
      <Style isDefault="true">
        <ows:Identifier>default</ows:Identifier>
      </Style>
      <Format>image/jpeg</Format>
      <TileMatrixSetLink>
        <TileMatrixSet>webmercator</TileMatrixSet>
      </TileMatrixSetLink>
      <ResourceURL format="image/jpeg" resourceType="tile"
        template="https://mapbox2.astorni.cloud/wmts/google_terrain/{TileMatrixSet}/{TileMatrix}/{TileCol}/{TileRow}.jpeg"/>
    </Layer>
    <Layer>
      <ows:Title>Mapbox – Streets</ows:Title>
      <ows:Abstract></ows:Abstract>
      <ows:WGS84BoundingBox>
        <ows:LowerCorner>-180.0 -85.0511287798066</ows:LowerCorner>
        <ows:UpperCorner>180.0 85.0511287798066</ows:UpperCorner>
      </ows:WGS84BoundingBox>
      <ows:Identifier>mapbox_streets</ows:Identifier>
      <Style isDefault="true">
        <ows:Identifier>default</ows:Identifier>
      </Style>
      <Format>image/png</Format>
      <TileMatrixSetLink>
        <TileMatrixSet>webmercator</TileMatrixSet>
      </TileMatrixSetLink>
      <ResourceURL format="image/png" resourceType="tile"
        template="https://mapbox2.astorni.cloud/wmts/mapbox_streets/{TileMatrixSet}/{TileMatrix}/{TileCol}/{TileRow}.png"/>
    </Layer>
    <Layer>
      <ows:Title>Mapbox – Satellite</ows:Title>
      <ows:Abstract></ows:Abstract>
      <ows:WGS84BoundingBox>
        <ows:LowerCorner>-180.0 -85.0511287798066</ows:LowerCorner>
        <ows:UpperCorner>180.0 85.0511287798066</ows:UpperCorner>
      </ows:WGS84BoundingBox>
      <ows:Identifier>mapbox_satellite</ows:Identifier>
      <Style isDefault="true">
        <ows:Identifier>default</ows:Identifier>
      </Style>
      <Format>image/jpeg</Format>
      <TileMatrixSetLink>
        <TileMatrixSet>webmercator</TileMatrixSet>
      </TileMatrixSetLink>
      <ResourceURL format="image/jpeg" resourceType="tile"
        template="https://mapbox2.astorni.cloud/wmts/mapbox_satellite/{TileMatrixSet}/{TileMatrix}/{TileCol}/{TileRow}.jpeg"/>
    </Layer>
    <Layer>
      <ows:Title>Mapbox – Satellite + Streets</ows:Title>
      <ows:Abstract></ows:Abstract>
      <ows:WGS84BoundingBox>
        <ows:LowerCorner>-180.0 -85.0511287798066</ows:LowerCorner>
        <ows:UpperCorner>180.0 85.0511287798066</ows:UpperCorner>
      </ows:WGS84BoundingBox>
      <ows:Identifier>mapbox_satellite_streets</ows:Identifier>
      <Style isDefault="true">
        <ows:Identifier>default</ows:Identifier>
      </Style>
      <Format>image/jpeg</Format>
      <TileMatrixSetLink>
        <TileMatrixSet>webmercator</TileMatrixSet>
      </TileMatrixSetLink>
      <ResourceURL format="image/jpeg" resourceType="tile"
        template="https://mapbox2.astorni.cloud/wmts/mapbox_satellite_streets/{TileMatrixSet}/{TileMatrix}/{TileCol}/{TileRow}.jpeg"/>
    </Layer>
    <Layer>
      <ows:Title>Mapbox – Outdoors</ows:Title>
      <ows:Abstract></ows:Abstract>
      <ows:WGS84BoundingBox>
        <ows:LowerCorner>-180.0 -85.0511287798066</ows:LowerCorner>
        <ows:UpperCorner>180.0 85.0511287798066</ows:UpperCorner>
      </ows:WGS84BoundingBox>
      <ows:Identifier>mapbox_outdoors</ows:Identifier>
      <Style isDefault="true">
        <ows:Identifier>default</ows:Identifier>
      </Style>
      <Format>image/png</Format>
      <TileMatrixSetLink>
        <TileMatrixSet>webmercator</TileMatrixSet>
      </TileMatrixSetLink>
      <ResourceURL format="image/png" resourceType="tile"
        template="https://mapbox2.astorni.cloud/wmts/mapbox_outdoors/{TileMatrixSet}/{TileMatrix}/{TileCol}/{TileRow}.png"/>
    </Layer>
    <Layer>
      <ows:Title>Mapbox – Light</ows:Title>
      <ows:Abstract></ows:Abstract>
      <ows:WGS84BoundingBox>
        <ows:LowerCorner>-180.0 -85.0511287798066</ows:LowerCorner>
        <ows:UpperCorner>180.0 85.0511287798066</ows:UpperCorner>
      </ows:WGS84BoundingBox>
      <ows:Identifier>mapbox_light</ows:Identifier>
      <Style isDefault="true">
        <ows:Identifier>default</ows:Identifier>
      </Style>
      <Format>image/png</Format>
      <TileMatrixSetLink>
        <TileMatrixSet>webmercator</TileMatrixSet>
      </TileMatrixSetLink>
      <ResourceURL format="image/png" resourceType="tile"
        template="https://mapbox2.astorni.cloud/wmts/mapbox_light/{TileMatrixSet}/{TileMatrix}/{TileCol}/{TileRow}.png"/>
    </Layer>
    <Layer>
      <ows:Title>Mapbox – Dark</ows:Title>
      <ows:Abstract></ows:Abstract>
      <ows:WGS84BoundingBox>
        <ows:LowerCorner>-180.0 -85.0511287798066</ows:LowerCorner>
        <ows:UpperCorner>180.0 85.0511287798066</ows:UpperCorner>
      </ows:WGS84BoundingBox>
      <ows:Identifier>mapbox_dark</ows:Identifier>
      <Style isDefault="true">
        <ows:Identifier>default</ows:Identifier>
      </Style>
      <Format>image/png</Format>
      <TileMatrixSetLink>
        <TileMatrixSet>webmercator</TileMatrixSet>
      </TileMatrixSetLink>
      <ResourceURL format="image/png" resourceType="tile"
        template="https://mapbox2.astorni.cloud/wmts/mapbox_dark/{TileMatrixSet}/{TileMatrix}/{TileCol}/{TileRow}.png"/>
    </Layer>
    <Layer>
      <ows:Title>Bing – Roads</ows:Title>
      <ows:Abstract></ows:Abstract>
      <ows:WGS84BoundingBox>
        <ows:LowerCorner>-180.0 -85.0511287798066</ows:LowerCorner>
        <ows:UpperCorner>180.0 85.0511287798066</ows:UpperCorner>
      </ows:WGS84BoundingBox>
      <ows:Identifier>bing_roads</ows:Identifier>
      <Style isDefault="true">
        <ows:Identifier>default</ows:Identifier>
      </Style>
      <Format>image/png</Format>
      <TileMatrixSetLink>
        <TileMatrixSet>webmercator</TileMatrixSet>
      </TileMatrixSetLink>
      <ResourceURL format="image/png" resourceType="tile"
        template="https://mapbox2.astorni.cloud/wmts/bing_roads/{TileMatrixSet}/{TileMatrix}/{TileCol}/{TileRow}.png"/>
    </Layer>
    <Layer>
      <ows:Title>Bing – Aerial</ows:Title>
      <ows:Abstract></ows:Abstract>
      <ows:WGS84BoundingBox>
        <ows:LowerCorner>-180.0 -85.0511287798066</ows:LowerCorner>
        <ows:UpperCorner>180.0 85.0511287798066</ows:UpperCorner>
      </ows:WGS84BoundingBox>
      <ows:Identifier>bing_aerial</ows:Identifier>
      <Style isDefault="true">
        <ows:Identifier>default</ows:Identifier>
      </Style>
      <Format>image/jpeg</Format>
      <TileMatrixSetLink>
        <TileMatrixSet>webmercator</TileMatrixSet>
      </TileMatrixSetLink>
      <ResourceURL format="image/jpeg" resourceType="tile"
        template="https://mapbox2.astorni.cloud/wmts/bing_aerial/{TileMatrixSet}/{TileMatrix}/{TileCol}/{TileRow}.jpeg"/>
    </Layer>
    <Layer>
      <ows:Title>Bing – Aerial + Labels</ows:Title>
      <ows:Abstract></ows:Abstract>
      <ows:WGS84BoundingBox>
        <ows:LowerCorner>-180.0 -85.0511287798066</ows:LowerCorner>
        <ows:UpperCorner>180.0 85.0511287798066</ows:UpperCorner>
      </ows:WGS84BoundingBox>
      <ows:Identifier>bing_aerial_labels</ows:Identifier>
      <Style isDefault="true">
        <ows:Identifier>default</ows:Identifier>
      </Style>
      <Format>image/jpeg</Format>
      <TileMatrixSetLink>
        <TileMatrixSet>webmercator</TileMatrixSet>
      </TileMatrixSetLink>
      <ResourceURL format="image/jpeg" resourceType="tile"
        template="https://mapbox2.astorni.cloud/wmts/bing_aerial_labels/{TileMatrixSet}/{TileMatrix}/{TileCol}/{TileRow}.jpeg"/>
    </Layer>
    <Layer>
      <ows:Title>Yandex – Roads</ows:Title>
      <ows:Abstract></ows:Abstract>
      <ows:WGS84BoundingBox>
        <ows:LowerCorner>-180.0 -85.0511287798066</ows:LowerCorner>
        <ows:UpperCorner>180.0 85.0511287798066</ows:UpperCorner>
      </ows:WGS84BoundingBox>
      <ows:Identifier>yandex_roads</ows:Identifier>
      <Style isDefault="true">
        <ows:Identifier>default</ows:Identifier>
      </Style>
      <Format>image/png</Format>
      <TileMatrixSetLink>
        <TileMatrixSet>webmercator</TileMatrixSet>
      </TileMatrixSetLink>
      <ResourceURL format="image/png" resourceType="tile"
        template="https://mapbox2.astorni.cloud/wmts/yandex_roads/{TileMatrixSet}/{TileMatrix}/{TileCol}/{TileRow}.png"/>
    </Layer>
    <Layer>
      <ows:Title>Yandex – Satellite</ows:Title>
      <ows:Abstract></ows:Abstract>
      <ows:WGS84BoundingBox>
        <ows:LowerCorner>-180.0 -85.0511287798066</ows:LowerCorner>
        <ows:UpperCorner>180.0 85.0511287798066</ows:UpperCorner>
      </ows:WGS84BoundingBox>
      <ows:Identifier>yandex_satellite</ows:Identifier>
      <Style isDefault="true">
        <ows:Identifier>default</ows:Identifier>
      </Style>
      <Format>image/jpeg</Format>
      <TileMatrixSetLink>
        <TileMatrixSet>webmercator</TileMatrixSet>
      </TileMatrixSetLink>
      <ResourceURL format="image/jpeg" resourceType="tile"
        template="https://mapbox2.astorni.cloud/wmts/yandex_satellite/{TileMatrixSet}/{TileMatrix}/{TileCol}/{TileRow}.jpeg"/>
    </Layer>
    <Layer>
      <ows:Title>Yandex – Hybrid</ows:Title>
      <ows:Abstract></ows:Abstract>
      <ows:WGS84BoundingBox>
        <ows:LowerCorner>-180.0 -85.0511287798066</ows:LowerCorner>
        <ows:UpperCorner>180.0 85.0511287798066</ows:UpperCorner>
      </ows:WGS84BoundingBox>
      <ows:Identifier>yandex_hybrid</ows:Identifier>
      <Style isDefault="true">
        <ows:Identifier>default</ows:Identifier>
      </Style>
      <Format>image/jpeg</Format>
      <TileMatrixSetLink>
        <TileMatrixSet>webmercator</TileMatrixSet>
      </TileMatrixSetLink>
      <ResourceURL format="image/jpeg" resourceType="tile"
        template="https://mapbox2.astorni.cloud/wmts/yandex_hybrid/{TileMatrixSet}/{TileMatrix}/{TileCol}/{TileRow}.jpeg"/>
    </Layer>
    <TileMatrixSet>
      <ows:Identifier>webmercator</ows:Identifier>
      <ows:SupportedCRS>urn:ogc:def:crs:EPSG:3857</ows:SupportedCRS>
      <TileMatrix>
        <ows:Identifier>00</ows:Identifier>
        <ScaleDenominator>559082264.0287176</ScaleDenominator>
        <TopLeftCorner>-20037508.342789244 20037508.342789244</TopLeftCorner>
        <TileWidth>256</TileWidth>
        <TileHeight>256</TileHeight>
        <MatrixWidth>1</MatrixWidth>
        <MatrixHeight>1</MatrixHeight>
      </TileMatrix>
      <TileMatrix>
        <ows:Identifier>01</ows:Identifier>
        <ScaleDenominator>279541132.0143588</ScaleDenominator>
        <TopLeftCorner>-20037508.342789244 20037508.342789244</TopLeftCorner>
        <TileWidth>256</TileWidth>
        <TileHeight>256</TileHeight>
        <MatrixWidth>2</MatrixWidth>
        <MatrixHeight>2</MatrixHeight>
      </TileMatrix>
      <TileMatrix>
        <ows:Identifier>02</ows:Identifier>
        <ScaleDenominator>139770566.0071794</ScaleDenominator>
        <TopLeftCorner>-20037508.342789244 20037508.342789244</TopLeftCorner>
        <TileWidth>256</TileWidth>
        <TileHeight>256</TileHeight>
        <MatrixWidth>4</MatrixWidth>
        <MatrixHeight>4</MatrixHeight>
      </TileMatrix>
      <TileMatrix>
        <ows:Identifier>03</ows:Identifier>
        <ScaleDenominator>69885283.0035897</ScaleDenominator>
        <TopLeftCorner>-20037508.342789244 20037508.342789244</TopLeftCorner>
        <TileWidth>256</TileWidth>
        <TileHeight>256</TileHeight>
        <MatrixWidth>8</MatrixWidth>
        <MatrixHeight>8</MatrixHeight>
      </TileMatrix>
      <TileMatrix>
        <ows:Identifier>04</ows:Identifier>
        <ScaleDenominator>34942641.50179485</ScaleDenominator>
        <TopLeftCorner>-20037508.342789244 20037508.342789244</TopLeftCorner>
        <TileWidth>256</TileWidth>
        <TileHeight>256</TileHeight>
        <MatrixWidth>16</MatrixWidth>
        <MatrixHeight>16</MatrixHeight>
      </TileMatrix>
      <TileMatrix>
        <ows:Identifier>05</ows:Identifier>
        <ScaleDenominator>17471320.750897426</ScaleDenominator>
        <TopLeftCorner>-20037508.342789244 20037508.342789244</TopLeftCorner>
        <TileWidth>256</TileWidth>
        <TileHeight>256</TileHeight>
        <MatrixWidth>32</MatrixWidth>
        <MatrixHeight>32</MatrixHeight>
      </TileMatrix>
      <TileMatrix>
        <ows:Identifier>06</ows:Identifier>
        <ScaleDenominator>8735660.375448713</ScaleDenominator>
        <TopLeftCorner>-20037508.342789244 20037508.342789244</TopLeftCorner>
        <TileWidth>256</TileWidth>
        <TileHeight>256</TileHeight>
        <MatrixWidth>64</MatrixWidth>
        <MatrixHeight>64</MatrixHeight>
      </TileMatrix>
      <TileMatrix>
        <ows:Identifier>07</ows:Identifier>
        <ScaleDenominator>4367830.187724357</ScaleDenominator>
        <TopLeftCorner>-20037508.342789244 20037508.342789244</TopLeftCorner>
        <TileWidth>256</TileWidth>
        <TileHeight>256</TileHeight>
        <MatrixWidth>128</MatrixWidth>
        <MatrixHeight>128</MatrixHeight>
      </TileMatrix>
      <TileMatrix>
        <ows:Identifier>08</ows:Identifier>
        <ScaleDenominator>2183915.0938621783</ScaleDenominator>
        <TopLeftCorner>-20037508.342789244 20037508.342789244</TopLeftCorner>
        <TileWidth>256</TileWidth>
        <TileHeight>256</TileHeight>
        <MatrixWidth>256</MatrixWidth>
        <MatrixHeight>256</MatrixHeight>
      </TileMatrix>
      <TileMatrix>
        <ows:Identifier>09</ows:Identifier>
        <ScaleDenominator>1091957.5469310891</ScaleDenominator>
        <TopLeftCorner>-20037508.342789244 20037508.342789244</TopLeftCorner>
        <TileWidth>256</TileWidth>
        <TileHeight>256</TileHeight>
        <MatrixWidth>512</MatrixWidth>
        <MatrixHeight>512</MatrixHeight>
      </TileMatrix>
      <TileMatrix>
        <ows:Identifier>10</ows:Identifier>
        <ScaleDenominator>545978.7734655446</ScaleDenominator>
        <TopLeftCorner>-20037508.342789244 20037508.342789244</TopLeftCorner>
        <TileWidth>256</TileWidth>
        <TileHeight>256</TileHeight>
        <MatrixWidth>1024</MatrixWidth>
        <MatrixHeight>1024</MatrixHeight>
      </TileMatrix>
      <TileMatrix>
        <ows:Identifier>11</ows:Identifier>
        <ScaleDenominator>272989.3867327723</ScaleDenominator>
        <TopLeftCorner>-20037508.342789244 20037508.342789244</TopLeftCorner>
        <TileWidth>256</TileWidth>
        <TileHeight>256</TileHeight>
        <MatrixWidth>2048</MatrixWidth>
        <MatrixHeight>2048</MatrixHeight>
      </TileMatrix>
      <TileMatrix>
        <ows:Identifier>12</ows:Identifier>
        <ScaleDenominator>136494.6933663861</ScaleDenominator>
        <TopLeftCorner>-20037508.342789244 20037508.342789244</TopLeftCorner>
        <TileWidth>256</TileWidth>
        <TileHeight>256</TileHeight>
        <MatrixWidth>4096</MatrixWidth>
        <MatrixHeight>4096</MatrixHeight>
      </TileMatrix>
      <TileMatrix>
        <ows:Identifier>13</ows:Identifier>
        <ScaleDenominator>68247.3466831931</ScaleDenominator>
        <TopLeftCorner>-20037508.342789244 20037508.342789244</TopLeftCorner>
        <TileWidth>256</TileWidth>
        <TileHeight>256</TileHeight>
        <MatrixWidth>8192</MatrixWidth>
        <MatrixHeight>8192</MatrixHeight>
      </TileMatrix>
      <TileMatrix>
        <ows:Identifier>14</ows:Identifier>
        <ScaleDenominator>34123.6733415965</ScaleDenominator>
        <TopLeftCorner>-20037508.342789244 20037508.342789244</TopLeftCorner>
        <TileWidth>256</TileWidth>
        <TileHeight>256</TileHeight>
        <MatrixWidth>16384</MatrixWidth>
        <MatrixHeight>16384</MatrixHeight>
      </TileMatrix>
      <TileMatrix>
        <ows:Identifier>15</ows:Identifier>
        <ScaleDenominator>17061.8366707983</ScaleDenominator>
        <TopLeftCorner>-20037508.342789244 20037508.342789244</TopLeftCorner>
        <TileWidth>256</TileWidth>
        <TileHeight>256</TileHeight>
        <MatrixWidth>32768</MatrixWidth>
        <MatrixHeight>32768</MatrixHeight>
      </TileMatrix>
      <TileMatrix>
        <ows:Identifier>16</ows:Identifier>
        <ScaleDenominator>8530.9183353991</ScaleDenominator>
        <TopLeftCorner>-20037508.342789244 20037508.342789244</TopLeftCorner>
        <TileWidth>256</TileWidth>
        <TileHeight>256</TileHeight>
        <MatrixWidth>65536</MatrixWidth>
        <MatrixHeight>65536</MatrixHeight>
      </TileMatrix>
      <TileMatrix>
        <ows:Identifier>17</ows:Identifier>
        <ScaleDenominator>4265.4591676996</ScaleDenominator>
        <TopLeftCorner>-20037508.342789244 20037508.342789244</TopLeftCorner>
        <TileWidth>256</TileWidth>
        <TileHeight>256</TileHeight>
        <MatrixWidth>131072</MatrixWidth>
        <MatrixHeight>131072</MatrixHeight>
      </TileMatrix>
      <TileMatrix>
        <ows:Identifier>18</ows:Identifier>
        <ScaleDenominator>2132.7295838498</ScaleDenominator>
        <TopLeftCorner>-20037508.342789244 20037508.342789244</TopLeftCorner>
        <TileWidth>256</TileWidth>
        <TileHeight>256</TileHeight>
        <MatrixWidth>262144</MatrixWidth>
        <MatrixHeight>262144</MatrixHeight>
      </TileMatrix>
      <TileMatrix>
